BEGIN:VCALENDAR
VERSION:2.0
PRODID:-//Stovehouse - ECPv6.15.0//NONSGML v1.0//EN
CALSCALE:GREGORIAN
METHOD:PUBLISH
X-ORIGINAL-URL:https://www.stovehouse.com
X-WR-CALDESC:Events for Stovehouse
REFRESH-INTERVAL;VALUE=DURATION:PT1H
X-Robots-Tag:noindex
X-PUBLISHED-TTL:PT1H
BEGIN:VTIMEZONE
TZID:America/Chicago
BEGIN:DAYLIGHT
TZOFFSETFROM:-0600
TZOFFSETTO:-0500
TZNAME:CDT
DTSTART:20260308T080000
END:DAYLIGHT
BEGIN:STANDARD
TZOFFSETFROM:-0500
TZOFFSETTO:-0600
TZNAME:CST
DTSTART:20261101T070000
END:STANDARD
END:VTIMEZONE
BEGIN:VEVENT
DTSTART;TZID=America/Chicago:20260723T190000
DTEND;TZID=America/Chicago:20260723T210000
DTSTAMP:20260421T114442
CREATED:20260325T181110Z
LAST-MODIFIED:20260325T181110Z
UID:8698-1784833200-1784840400@www.stovehouse.com
SUMMARY:SINGO BINGO at Stovehouse
DESCRIPTION:Your new Thursday night tradition is here! Singo Bingo is taking over Thursday nights in the Food Garden starting April 2 \nWe’re swapping numbers for songs and turning the whole Food Garden into one big sing-along party. \nGrab your crew\, claim a table\, and settle in for a night of throwbacks\, singalongs\, and “WAIT I KNOW THIS SONG” good times! \nEvery Thursday starting April 2 | 7:00pm – 9:00pm | Stovehouse Food Garden | Free + All ages welcome
URL:https://www.stovehouse.com/event/singo-bingo-at-stovehouse-6/
LOCATION:3414 Governors Dr SW\, Huntsville\, AL\, United States\, Alabama 35805
ATTACH;FMTTYPE=image/jpeg:https://www.stovehouse.com/wp-content/uploads/2026/03/8692_image_656837269_1260068502900801_1890546873212786326_n.jpg
END:VEVENT
BEGIN:VEVENT
DTSTART;TZID=America/Chicago:20260729T180000
DTEND;TZID=America/Chicago:20260729T210000
DTSTAMP:20260421T114442
CREATED:20260325T181315Z
LAST-MODIFIED:20260325T181315Z
UID:8721-1785348000-1785358800@www.stovehouse.com
SUMMARY:Stovehouse Dueling Pianos: Otis Walker vs. Lisa Chang
DESCRIPTION:Two pianos. One BIG Midweek Backyard Party 🎹 \nStovehouse Dueling Pianos: Otis Walker vs. Lisa Chang is taking over your Wednesdays starting April 1! \nWe’re turning your midweek slump into the best day of the week. EVERY. single. WEDNESDAY.  \nWho will take home the crown of the keys? Pull up a chair\, grab a drink\, and let’s find out!  \nEvery Wednesday starting April 1 | 6:00pm – 9:00pm | Stovehouse Food Garden | Free + All ages welcome
URL:https://www.stovehouse.com/event/stovehouse-dueling-pianos-otis-walker-vs-lisa-chang-5/
LOCATION:3414 Governors Dr SW\, Huntsville\, AL\, United States\, Alabama 35805
ATTACH;FMTTYPE=image/jpeg:https://www.stovehouse.com/wp-content/uploads/2026/03/8716_image_655437145_1259111612996490_9021604000841895433_n.jpg
END:VEVENT
BEGIN:VEVENT
DTSTART;TZID=America/Chicago:20260730T190000
DTEND;TZID=America/Chicago:20260730T210000
DTSTAMP:20260421T114442
CREATED:20260325T181109Z
LAST-MODIFIED:20260325T181109Z
UID:8697-1785438000-1785445200@www.stovehouse.com
SUMMARY:SINGO BINGO at Stovehouse
DESCRIPTION:Your new Thursday night tradition is here! Singo Bingo is taking over Thursday nights in the Food Garden starting April 2 \nWe’re swapping numbers for songs and turning the whole Food Garden into one big sing-along party. \nGrab your crew\, claim a table\, and settle in for a night of throwbacks\, singalongs\, and “WAIT I KNOW THIS SONG” good times! \nEvery Thursday starting April 2 | 7:00pm – 9:00pm | Stovehouse Food Garden | Free + All ages welcome
URL:https://www.stovehouse.com/event/singo-bingo-at-stovehouse-5/
LOCATION:3414 Governors Dr SW\, Huntsville\, AL\, United States\, Alabama 35805
ATTACH;FMTTYPE=image/jpeg:https://www.stovehouse.com/wp-content/uploads/2026/03/8692_image_656837269_1260068502900801_1890546873212786326_n.jpg
END:VEVENT
BEGIN:VEVENT
DTSTART;TZID=America/Chicago:20260805T180000
DTEND;TZID=America/Chicago:20260805T210000
DTSTAMP:20260421T114442
CREATED:20260325T181315Z
LAST-MODIFIED:20260325T181315Z
UID:8720-1785952800-1785963600@www.stovehouse.com
SUMMARY:Stovehouse Dueling Pianos: Otis Walker vs. Lisa Chang
DESCRIPTION:Two pianos. One BIG Midweek Backyard Party 🎹 \nStovehouse Dueling Pianos: Otis Walker vs. Lisa Chang is taking over your Wednesdays starting April 1! \nWe’re turning your midweek slump into the best day of the week. EVERY. single. WEDNESDAY.  \nWho will take home the crown of the keys? Pull up a chair\, grab a drink\, and let’s find out!  \nEvery Wednesday starting April 1 | 6:00pm – 9:00pm | Stovehouse Food Garden | Free + All ages welcome
URL:https://www.stovehouse.com/event/stovehouse-dueling-pianos-otis-walker-vs-lisa-chang-4/
LOCATION:3414 Governors Dr SW\, Huntsville\, AL\, United States\, Alabama 35805
ATTACH;FMTTYPE=image/jpeg:https://www.stovehouse.com/wp-content/uploads/2026/03/8716_image_655437145_1259111612996490_9021604000841895433_n.jpg
END:VEVENT
BEGIN:VEVENT
DTSTART;TZID=America/Chicago:20260806T190000
DTEND;TZID=America/Chicago:20260806T210000
DTSTAMP:20260421T114442
CREATED:20260325T181109Z
LAST-MODIFIED:20260325T181109Z
UID:8696-1786042800-1786050000@www.stovehouse.com
SUMMARY:SINGO BINGO at Stovehouse
DESCRIPTION:Your new Thursday night tradition is here! Singo Bingo is taking over Thursday nights in the Food Garden starting April 2 \nWe’re swapping numbers for songs and turning the whole Food Garden into one big sing-along party. \nGrab your crew\, claim a table\, and settle in for a night of throwbacks\, singalongs\, and “WAIT I KNOW THIS SONG” good times! \nEvery Thursday starting April 2 | 7:00pm – 9:00pm | Stovehouse Food Garden | Free + All ages welcome
URL:https://www.stovehouse.com/event/singo-bingo-at-stovehouse-4/
LOCATION:3414 Governors Dr SW\, Huntsville\, AL\, United States\, Alabama 35805
ATTACH;FMTTYPE=image/jpeg:https://www.stovehouse.com/wp-content/uploads/2026/03/8692_image_656837269_1260068502900801_1890546873212786326_n.jpg
END:VEVENT
BEGIN:VEVENT
DTSTART;TZID=America/Chicago:20260812T180000
DTEND;TZID=America/Chicago:20260812T210000
DTSTAMP:20260421T114442
CREATED:20260325T181315Z
LAST-MODIFIED:20260325T181315Z
UID:8719-1786557600-1786568400@www.stovehouse.com
SUMMARY:Stovehouse Dueling Pianos: Otis Walker vs. Lisa Chang
DESCRIPTION:Two pianos. One BIG Midweek Backyard Party 🎹 \nStovehouse Dueling Pianos: Otis Walker vs. Lisa Chang is taking over your Wednesdays starting April 1! \nWe’re turning your midweek slump into the best day of the week. EVERY. single. WEDNESDAY.  \nWho will take home the crown of the keys? Pull up a chair\, grab a drink\, and let’s find out!  \nEvery Wednesday starting April 1 | 6:00pm – 9:00pm | Stovehouse Food Garden | Free + All ages welcome
URL:https://www.stovehouse.com/event/stovehouse-dueling-pianos-otis-walker-vs-lisa-chang-3/
LOCATION:3414 Governors Dr SW\, Huntsville\, AL\, United States\, Alabama 35805
ATTACH;FMTTYPE=image/jpeg:https://www.stovehouse.com/wp-content/uploads/2026/03/8716_image_655437145_1259111612996490_9021604000841895433_n.jpg
END:VEVENT
BEGIN:VEVENT
DTSTART;TZID=America/Chicago:20260813T190000
DTEND;TZID=America/Chicago:20260813T210000
DTSTAMP:20260421T114442
CREATED:20260325T181109Z
LAST-MODIFIED:20260325T181109Z
UID:8695-1786647600-1786654800@www.stovehouse.com
SUMMARY:SINGO BINGO at Stovehouse
DESCRIPTION:Your new Thursday night tradition is here! Singo Bingo is taking over Thursday nights in the Food Garden starting April 2 \nWe’re swapping numbers for songs and turning the whole Food Garden into one big sing-along party. \nGrab your crew\, claim a table\, and settle in for a night of throwbacks\, singalongs\, and “WAIT I KNOW THIS SONG” good times! \nEvery Thursday starting April 2 | 7:00pm – 9:00pm | Stovehouse Food Garden | Free + All ages welcome
URL:https://www.stovehouse.com/event/singo-bingo-at-stovehouse-3/
LOCATION:3414 Governors Dr SW\, Huntsville\, AL\, United States\, Alabama 35805
ATTACH;FMTTYPE=image/jpeg:https://www.stovehouse.com/wp-content/uploads/2026/03/8692_image_656837269_1260068502900801_1890546873212786326_n.jpg
END:VEVENT
BEGIN:VEVENT
DTSTART;TZID=America/Chicago:20260819T180000
DTEND;TZID=America/Chicago:20260819T210000
DTSTAMP:20260421T114442
CREATED:20260325T181314Z
LAST-MODIFIED:20260325T181314Z
UID:8718-1787162400-1787173200@www.stovehouse.com
SUMMARY:Stovehouse Dueling Pianos: Otis Walker vs. Lisa Chang
DESCRIPTION:Two pianos. One BIG Midweek Backyard Party 🎹 \nStovehouse Dueling Pianos: Otis Walker vs. Lisa Chang is taking over your Wednesdays starting April 1! \nWe’re turning your midweek slump into the best day of the week. EVERY. single. WEDNESDAY.  \nWho will take home the crown of the keys? Pull up a chair\, grab a drink\, and let’s find out!  \nEvery Wednesday starting April 1 | 6:00pm – 9:00pm | Stovehouse Food Garden | Free + All ages welcome
URL:https://www.stovehouse.com/event/stovehouse-dueling-pianos-otis-walker-vs-lisa-chang-2/
LOCATION:3414 Governors Dr SW\, Huntsville\, AL\, United States\, Alabama 35805
ATTACH;FMTTYPE=image/jpeg:https://www.stovehouse.com/wp-content/uploads/2026/03/8716_image_655437145_1259111612996490_9021604000841895433_n.jpg
END:VEVENT
BEGIN:VEVENT
DTSTART;TZID=America/Chicago:20260820T190000
DTEND;TZID=America/Chicago:20260820T210000
DTSTAMP:20260421T114442
CREATED:20260325T181108Z
LAST-MODIFIED:20260325T181108Z
UID:8694-1787252400-1787259600@www.stovehouse.com
SUMMARY:SINGO BINGO at Stovehouse
DESCRIPTION:Your new Thursday night tradition is here! Singo Bingo is taking over Thursday nights in the Food Garden starting April 2 \nWe’re swapping numbers for songs and turning the whole Food Garden into one big sing-along party. \nGrab your crew\, claim a table\, and settle in for a night of throwbacks\, singalongs\, and “WAIT I KNOW THIS SONG” good times! \nEvery Thursday starting April 2 | 7:00pm – 9:00pm | Stovehouse Food Garden | Free + All ages welcome
URL:https://www.stovehouse.com/event/singo-bingo-at-stovehouse-2/
LOCATION:3414 Governors Dr SW\, Huntsville\, AL\, United States\, Alabama 35805
ATTACH;FMTTYPE=image/jpeg:https://www.stovehouse.com/wp-content/uploads/2026/03/8692_image_656837269_1260068502900801_1890546873212786326_n.jpg
END:VEVENT
BEGIN:VEVENT
DTSTART;TZID=America/Chicago:20260826T180000
DTEND;TZID=America/Chicago:20260826T210000
DTSTAMP:20260421T114442
CREATED:20260325T181312Z
LAST-MODIFIED:20260325T181312Z
UID:8716-1787767200-1787778000@www.stovehouse.com
SUMMARY:Stovehouse Dueling Pianos: Otis Walker vs. Lisa Chang
DESCRIPTION:Two pianos. One BIG Midweek Backyard Party 🎹 \nStovehouse Dueling Pianos: Otis Walker vs. Lisa Chang is taking over your Wednesdays starting April 1! \nWe’re turning your midweek slump into the best day of the week. EVERY. single. WEDNESDAY.  \nWho will take home the crown of the keys? Pull up a chair\, grab a drink\, and let’s find out!  \nEvery Wednesday starting April 1 | 6:00pm – 9:00pm | Stovehouse Food Garden | Free + All ages welcome
URL:https://www.stovehouse.com/event/stovehouse-dueling-pianos-otis-walker-vs-lisa-chang/
LOCATION:3414 Governors Dr SW\, Huntsville\, AL\, United States\, Alabama 35805
ATTACH;FMTTYPE=image/jpeg:https://www.stovehouse.com/wp-content/uploads/2026/03/8716_image_655437145_1259111612996490_9021604000841895433_n.jpg
END:VEVENT
BEGIN:VEVENT
DTSTART;TZID=America/Chicago:20260827T190000
DTEND;TZID=America/Chicago:20260827T210000
DTSTAMP:20260421T114442
CREATED:20260325T181106Z
LAST-MODIFIED:20260325T181106Z
UID:8692-1787857200-1787864400@www.stovehouse.com
SUMMARY:SINGO BINGO at Stovehouse
DESCRIPTION:Your new Thursday night tradition is here! Singo Bingo is taking over Thursday nights in the Food Garden starting April 2 \nWe’re swapping numbers for songs and turning the whole Food Garden into one big sing-along party. \nGrab your crew\, claim a table\, and settle in for a night of throwbacks\, singalongs\, and “WAIT I KNOW THIS SONG” good times! \nEvery Thursday starting April 2 | 7:00pm – 9:00pm | Stovehouse Food Garden | Free + All ages welcome
URL:https://www.stovehouse.com/event/singo-bingo-at-stovehouse/
LOCATION:3414 Governors Dr SW\, Huntsville\, AL\, United States\, Alabama 35805
ATTACH;FMTTYPE=image/jpeg:https://www.stovehouse.com/wp-content/uploads/2026/03/8692_image_656837269_1260068502900801_1890546873212786326_n.jpg
END:VEVENT
BEGIN:VEVENT
DTSTART;TZID=America/Chicago:20260829T160000
DTEND;TZID=America/Chicago:20260829T220000
DTSTAMP:20260421T114442
CREATED:20260406T201827Z
LAST-MODIFIED:20260406T201827Z
UID:8829-1788019200-1788040800@www.stovehouse.com
SUMMARY:STOVEFEST: Bands & Brews
DESCRIPTION:Mark your calendar and get ready to raise a glass 🍻 \n🔥Stovehouse is turning up the volume for Stovefest: Bands & Brews on August 29\, and yeah\, it’s exactly what it sounds like. \n🎶A full night of live music\, cold beer\, and good times. Five bands will take the stage as the sun goes down\, and 20+ local and regional breweries will be pouring along the way. \n🎟The party itself is free to attend\, so you can come and go\, grab dinner\, and settle in for the music.  \n🍻If you’re feeling a little more adventurous\, the beer tasting runs from 4pm – 7pm (ticket required) and gives you the chance to sip your way through the lineup. Music starts at 6pm and rolls until 10pm. \n🚨Stay tuned for more details on the FUN to come!
URL:https://www.stovehouse.com/event/stovefest-bands-brews/
LOCATION:3414 Governors Dr SW\, Huntsville\, AL\, United States\, Alabama 35805
ATTACH;FMTTYPE=image/jpeg:https://www.stovehouse.com/wp-content/uploads/2026/04/8829_image_666504257_1269701318604186_3944347864246783071_n.jpg
END:VEVENT
END:VCALENDAR